BEGIN:VCALENDAR
VERSION:2.0
PRODID:DPCALENDAR
CALSCALE:GREGORIAN
BEGIN:VTIMEZONE
TZID:UTC
X-MICROSOFT-CDO-TZID:0
END:VTIMEZONE
X-WR-TIMEZONE:UTC
BEGIN:VEVENT
DTSTART;TZID=UTC:20180914T140000
DTEND;TZID=UTC:20180914T190000
UID:00262A67-C81B-4C6B-94E4-F41E563167EC
SUMMARY:BOURGOIN JALLIEU - Salon de l'Habitat
DTSTAMP:20180130T153522Z
DESCRIPTION:
X-ALT-DESC;FMTTYPE=text/html:
LAST-MODIFIED:20180131T124447Z
X-ACCESS:1
X-HITS:578
X-URL:
X-COLOR:3366CC
END:VEVENT
END:VCALENDAR