BEGIN:VCALENDAR
VERSION:2.0
PRODID:DPCALENDAR
CALSCALE:GREGORIAN
BEGIN:VTIMEZONE
TZID:UTC
X-MICROSOFT-CDO-TZID:0
END:VTIMEZONE
X-WR-TIMEZONE:UTC
BEGIN:VEVENT
DTSTART;TZID=UTC:20180915T100000
DTEND;TZID=UTC:20180916T190000
UID:6DC11378-BF9D-4D7C-A54F-D00457F2A866
SUMMARY:SAINT CYR - Salon de l'Habitat
DTSTAMP:20180130T153522Z
DESCRIPTION:
X-ALT-DESC;FMTTYPE=text/html:
LAST-MODIFIED:20180131T124241Z
X-ACCESS:1
X-HITS:580
X-URL:
X-COLOR:3366CC
END:VEVENT
END:VCALENDAR